BEGIN:VCALENDAR
VERSION:2.0
PRODID:-//ADBM Mantenedora - ECPv6.13.2.1//NONSGML v1.0//EN
CALSCALE:GREGORIAN
METHOD:PUBLISH
X-ORIGINAL-URL:https://adbmmantenedora.org.br
X-WR-CALDESC:Eventos para ADBM Mantenedora
REFRESH-INTERVAL;VALUE=DURATION:PT1H
X-Robots-Tag:noindex
X-PUBLISHED-TTL:PT1H
BEGIN:VTIMEZONE
TZID:America/Sao_Paulo
BEGIN:STANDARD
TZOFFSETFROM:-0300
TZOFFSETTO:-0300
TZNAME:-03
DTSTART:20240101T000000
END:STANDARD
END:VTIMEZONE
BEGIN:VEVENT
DTSTART;TZID=America/Sao_Paulo:20241121T080000
DTEND;TZID=America/Sao_Paulo:20241125T170000
DTSTAMP:20260423T145742
CREATED:20241118T004011Z
LAST-MODIFIED:20241118T005314Z
UID:286-1732176000-1732554000@adbmmantenedora.org.br
SUMMARY:Reunião com todas as Mantidas
DESCRIPTION:Reunião com o núcleo diretivo da ADBM.
URL:https://adbmmantenedora.org.br/calendario/reuniao-da-diretoria/
LOCATION:Província BRE\, Província BRE\, Recife\, PE\, Brazil
END:VEVENT
END:VCALENDAR